BEGIN:VCALENDAR
VERSION:2.0
PRODID:-//MC Quintana Roo - ECPv6.0.9//NONSGML v1.0//EN
CALSCALE:GREGORIAN
METHOD:PUBLISH
X-WR-CALNAME:MC Quintana Roo
X-ORIGINAL-URL:https://movimientociudadanoqr.com
X-WR-CALDESC:Eventos para MC Quintana Roo
REFRESH-INTERVAL;VALUE=DURATION:PT1H
X-Robots-Tag:noindex
X-PUBLISHED-TTL:PT1H
BEGIN:VTIMEZONE
TZID:America/Mexico_City
BEGIN:DAYLIGHT
TZOFFSETFROM:-0600
TZOFFSETTO:-0500
TZNAME:CDT
DTSTART:20220403T080000
END:DAYLIGHT
BEGIN:STANDARD
TZOFFSETFROM:-0500
TZOFFSETTO:-0600
TZNAME:CST
DTSTART:20221030T070000
END:STANDARD
BEGIN:DAYLIGHT
TZOFFSETFROM:-0600
TZOFFSETTO:-0500
TZNAME:CDT
DTSTART:20230402T080000
END:DAYLIGHT
BEGIN:STANDARD
TZOFFSETFROM:-0500
TZOFFSETTO:-0600
TZNAME:CST
DTSTART:20231029T070000
END:STANDARD
END:VTIMEZONE
BEGIN:VEVENT
DTSTART;TZID=America/Mexico_City:20230422T100000
DTEND;TZID=America/Mexico_City:20230422T150000
DTSTAMP:20260419T093052
CREATED:20230407T021726Z
LAST-MODIFIED:20230407T021902Z
UID:1496-1682157600-1682175600@movimientociudadanoqr.com
SUMMARY:Taller Implementación de una Agenda Socialdemócrata
DESCRIPTION:Conoce la plataforma política e ideológica socialdemócrata\, en este interesante taller aprenderás sobre los antecedentes\, la agenda e implementación socialdemócrata. \n Este evento es abierto al público en general y es necesario el registro previo en el siguiente enlace: \nhttps://forms.gle/nTCckdCzZVupExcW6\n  \n  \n¡Para más información consulta la convocatoria! ¡Te esperamos! Da clic aquí\n 
URL:https://movimientociudadanoqr.com/evento/taller-implementacion-de-una-agenda-socialdemocrata-2/
LOCATION:Hotel Capital Plaza\, Salón Guatemala\, Av. Héroes 171-A\, Col. Centro\, Chetumal\, Quintana Roo\, Quintana Roo\, 77000\, Mexico
ATTACH;FMTTYPE=image/jpeg:https://movimientociudadanoqr.com/wp-content/uploads/2023/04/MC-QROO-Taller-Agenda-Socialdemocrata.jpg
END:VEVENT
BEGIN:VEVENT
DTSTART;TZID=America/Mexico_City:20230421T160000
DTEND;TZID=America/Mexico_City:20230421T200000
DTSTAMP:20260419T093052
CREATED:20230407T015700Z
LAST-MODIFIED:20230407T021403Z
UID:1484-1682092800-1682107200@movimientociudadanoqr.com
SUMMARY:Taller Implementación de una Agenda Socialdemócrata
DESCRIPTION:Conoce la plataforma política e ideológica socialdemócrata\, en este interesante taller aprenderás sobre los antecedentes\, la agenda e implementación socialdemócrata. \n Este evento es abierto al público en general y es necesario el registro previo en el siguiente enlace: \nhttps://forms.gle/nTCckdCzZVupExcW6\n  \n  \n¡Para más información consulta la convocatoria! ¡Te esperamos! Da clic aquí\n 
URL:https://movimientociudadanoqr.com/evento/taller-implementacion-de-una-agenda-socialdemocrata/
LOCATION:Hotel Capital Plaza\, Salón Guatemala\, Av. Héroes 171-A\, Col. Centro\, Chetumal\, Quintana Roo\, Quintana Roo\, 77000\, Mexico
ATTACH;FMTTYPE=image/jpeg:https://movimientociudadanoqr.com/wp-content/uploads/2023/04/MC-QROO-Taller-Agenda-Socialdemocrata.jpg
END:VEVENT
BEGIN:VEVENT
DTSTART;TZID=America/Mexico_City:20230225T114000
DTEND;TZID=America/Mexico_City:20230225T170000
DTSTAMP:20260419T093052
CREATED:20230306T214252Z
LAST-MODIFIED:20230306T214804Z
UID:1451-1677325200-1677344400@movimientociudadanoqr.com
SUMMARY:SEGUNDA SESIÓN ORDINARIA DE LA COORDINADORA CIUDADANA ESTATAL DE MOVIMIENTO CIUDADANO EN QUINTANA ROO
DESCRIPTION:Se convoca a las y los militantes\, simpatizantes y adherentes de Movimiento Ciudadano a participar en la Segunda Sesión de la Coordinadora Ciudadana en el Estado de Quintana Roo. \n¡Para más información consulta la convocatoria! ¡Te esperamos! Da clic aquí
URL:https://movimientociudadanoqr.com/evento/segunda-sesion-ordinaria-de-la-coordinadora-ciudadana-estatal-de-movimiento-ciudadano-en-quintana-roo/
LOCATION:Hotel Wyndham Garden Playa del Carmen\, Hotel Wyndham Garden Playa del Carmen\, salón “Chichén\, Coba y Tulum”\, ubicado en Lote 5\, Manzana 29 Fraccionamiento\, Playacar\, Playa del Carmen\, 77710\, Mexico
ATTACH;FMTTYPE=image/jpeg:https://movimientociudadanoqr.com/wp-content/uploads/2023/03/2-Segunda-Sesion-Coordinadora-Convocatoria-Portada.jpg
END:VEVENT
BEGIN:VEVENT
DTSTART;TZID=America/Mexico_City:20230225T100000
DTEND;TZID=America/Mexico_City:20230225T170000
DTSTAMP:20260419T093052
CREATED:20230306T213727Z
LAST-MODIFIED:20230306T213727Z
UID:1442-1677319200-1677344400@movimientociudadanoqr.com
SUMMARY:PRIMERA SESIÓN ORDINARIA DE LA JUNTA DE COORDINACIÓN ESTATAL DE MOVIMIENTO CIUDADANO EN QUINTANA ROO
DESCRIPTION:  \nSe convoca a las y los militantes\, simpatizantes y adherentes de Movimiento Ciudadano a participar en la Primera Sesión de la Junta de Coordinación en el Estado de Quintana Roo. \n¡Para más información consulta la convocatoria! ¡Te esperamos! Da clic aquí
URL:https://movimientociudadanoqr.com/evento/primera-sesion-ordinaria-de-la-junta-de-coordinacion-estatal-de-movimiento-ciudadano-en-quintana-roo/
LOCATION:Hotel Wyndham Garden Playa del Carmen\, Hotel Wyndham Garden Playa del Carmen\, salón “Chichén\, Coba y Tulum”\, ubicado en Lote 5\, Manzana 29 Fraccionamiento\, Playacar\, Playa del Carmen\, 77710\, Mexico
ATTACH;FMTTYPE=image/jpeg:https://movimientociudadanoqr.com/wp-content/uploads/2023/03/1-Primera-Sesion-QROO-Convocatoria-Portada.jpg
END:VEVENT
BEGIN:VEVENT
DTSTART;TZID=America/Mexico_City:20221105T100000
DTEND;TZID=America/Mexico_City:20221105T100000
DTSTAMP:20260419T093052
CREATED:20220117T010505Z
LAST-MODIFIED:20230221T204603Z
UID:768-1667642400-1667642400@movimientociudadanoqr.com
SUMMARY:CELEBRACIÓN DE PRIMERA CONVENCIÓN ESTATAL DE MOVIMIENTO CIUDADANO EN QUINTANA ROO
DESCRIPTION:Se convoca a las y los militantes\, simpatizantes y adherentes de Movimiento Ciudadano en el para participar en el Proceso Interno de elección de personas integrantes en los Órganos de Dirección de Movimiento Ciudadano en la entidad y en la Primera Convención Estatal.  \n  \n¡Para más información consulta la convocatoria! ¡Te esperamos! Da clic aquí
URL:https://movimientociudadanoqr.com/evento/celebracion-de-primera-convencion-estatal-de-movimiento-ciudadano-en-quintana-roo/
LOCATION:Hotel Platinum Yucatán Princess\, Salón Polivalente\, Calle Quinta Avenida MZ 20 LT 006\,\, Playa del Carmen\, Quintana Roo\, 77710\, Mexico
ATTACH;FMTTYPE=image/jpeg:https://movimientociudadanoqr.com/wp-content/uploads/2023/01/PrimeraConvencionEstatal.jpg
END:VEVENT
BEGIN:VEVENT
DTSTART;TZID=America/Mexico_City:20221021T100000
DTEND;TZID=America/Mexico_City:20221023T170000
DTSTAMP:20260419T093052
CREATED:20220117T003115Z
LAST-MODIFIED:20230221T204717Z
UID:758-1666346400-1666544400@movimientociudadanoqr.com
SUMMARY:CELEBRACIÓN DE ASAMBLEAS DISTRITALES EN QUINTANA ROO
DESCRIPTION:Rumbo a la Primera Convención Estatal de Movimiento Ciudadano en Quintana Roo\, se convoca a los militantes de Movimiento Ciudadano\, para que se registren y participen en las Asambleas Distritales en Quintana Roo de acuerdo con el siguiente calendario \n \n  \nDa clic para ver la convocatoria
URL:https://movimientociudadanoqr.com/evento/celebracion-de-asambleas-distritales-en-quintana-roo/
LOCATION:Cancún
ATTACH;FMTTYPE=image/jpeg:https://movimientociudadanoqr.com/wp-content/uploads/2023/01/defaultEvento.jpg
END:VEVENT
BEGIN:VEVENT
DTSTART;TZID=America/Mexico_City:20220813T113000
DTEND;TZID=America/Mexico_City:20220813T113000
DTSTAMP:20260419T093052
CREATED:20220117T001228Z
LAST-MODIFIED:20230221T204649Z
UID:752-1660390200-1660390200@movimientociudadanoqr.com
SUMMARY:El futuro es Naranja
DESCRIPTION:Su participación en este evento es muy importante\, por ello le pedimos confirmar su asistencia antes del jueves 11 de agosto\, via whatsapp al numero celular 99.81.59.05
URL:https://movimientociudadanoqr.com/evento/el-futuro-es-naranja/
LOCATION:Hotel Wyndham Alltra\, C. 16 Nte. Bis 102\, Gonzalo Guerrero\,\, Playa del Carmen\, Quintana Roo\, 77710\, Mexico
ATTACH;FMTTYPE=image/jpeg:https://movimientociudadanoqr.com/wp-content/uploads/2023/01/futuroNaranja.jpg
END:VEVENT
END:VCALENDAR